BEGIN:VCALENDAR
VERSION:2.0
CREATED:20260424T191054Z
PRODID:-//Core Scientific\, Inc./Equisolve Calendar v1.0//EN
METHOD:PUBLISH
BEGIN:VEVENT
UID:c0a85ca8a89c9f16d1c518e93433ed6c
DTSTAMP:20260425T131042Z
DTSTART:20260506T203000Z
DTEND:20260506T213000Z
SUMMARY:Fiscal First Quarter 2026 Earnings Conference Call
DESCRIPTION:Fiscal First Quarter 2026 Earnings Conference Call\nDate: May 6\, 2026 4:30 pm EDT\nWebcast: https://event.choruscall.com/mediaframe/webcast.html?webcastid=NbYVKwO1
END:VEVENT
END:VCALENDAR
